Workbook

Sheet Sheet2
A1: X | B1: Movie 1 | C1: Movie 2 | D1: Movie 3 | E1: Movie 4 | F1: m= | G1: 6 | H1: rows
A2: Person 1 | B2: 5 | C2: 4 | D2: 2 | E2: 1 | F2: n= | G2: 4 | H2: columns | AC2: Eigenvectors Q | AJ2: Eigenvalues l
A3: Person 2 | B3: 4 | C3: 5 | D3: 2 | E3: 2 | F3: m x n= | G3: =G1*G2 -> 24 | AC3: {=[1]!eigVECTSym(R11:U14)} -> 6.6284432 | AD3: 0.53404022 | AE3: 0.059738789 | AF3: 3.0039521e-16 | AG3: Eigenvalues l | AJ3: {=[1]!eigVALSym(R11:U14)} -> 6.6284432 | AK3: 0.53404022 | AL3: 0.059738789 | AM3: 3.0039521e-16
A4: Person 3 | B4: 1 | C4: 2 | D4: 4 | E4: 5 | AC4: -0.53331504 | AD4: -0.46334538 | AE4: -0.029767816 | AF4: -0.70710678 | AJ4: 2.346164e-13 | AK4: 5.0144007e-16 | AL4: 1.6327378e-17 | AM4: -4.6955032e-17
A5: Person 4 | B5: 2 | C5: 1 | D5: 5 | E5: 4 | AC5: -0.51632174 | AD5: 0.63145791 | AE5: -0.5785091 | AF5: 1.5347835e-16 | AJ5: =_xlfn.FORMULATEXT(AJ3) -> =eigVALSym(R11:U14)
A6: Person 5 | B6: 4 | C6: 4 | D6: 3 | E6: 2 | AC6: 0.40566241 | AD6: -0.41458778 | AE6: -0.81458884 | AF6: 6.4179757e-16
A7: Person 6 | B7: 2 | C7: 2 | D7: 4 | E7: 4 | AC7: 0.53331504 | AD7: 0.46334538 | AE7: 0.029767816 | AF7: -0.70710678
A8: Means | B8: =AVERAGE(B2:B7) -> 3 | C8: =AVERAGE(C2:C7) -> 3 | D8: =AVERAGE(D2:D7) -> 3.3333333 | E8: =AVERAGE(E2:E7) -> 3 | AC8: 2.346164e-13 | AD8: 5.0144007e-16 | AE8: 1.6327378e-17 | AF8: -4.6955032e-17
Q9: Covariance - Data Analysis add-in | AC9: 1.3322676e-15 | AD9: 4.4408921e-16 | AE9: 3.6082248e-16 | AF9: 4.4408921e-16
A10: Centred Xc | G10: XcT Xc | L10: 1/m XcT Xc | M10: Covariance matrix | R10: Column 1 | S10: Column 2 | T10: Column 3 | U10: Column 4 | AC10: =_xlfn.FORMULATEXT(AC3) -> =eigVECTSym(R11:U14)
B11: =B2-B$8 -> 2 | C11: =C2-C$8 -> 1 | D11: =D2-D$8 -> -1.3333333 | E11: =E2-E$8 -> -2 | G11: {=MMULT(TRANSPOSE(B11:E16),B11:E16)} -> 12 | H11: 10 | I11: -8 | J11: -12 | L11: {=1/6*G11:J14} -> 2 | M11: 1.6666667 | N11: -1.3333333 | O11: -2 | Q11: Column 1 | R11: =VARP($B$11:$B$16) -> 2 | S11: =R12 -> 1.67 | T11: =R13 -> -1.33 | U11: =R14 -> -2 | W11: =_xlfn.VAR.P($B$11:$B$16,B11:B16) -> 2 | X11: =_xlfn.FORMULATEXT(W11) -> =VAR.P($B$11:$B$16,B11:B16)
B12: =B3-B$8 -> 1 | C12: =C3-C$8 -> 2 | D12: =D3-D$8 -> -1.3333333 | E12: =E3-E$8 -> -1 | G12: 10 | H12: 12 | I12: -9 | J12: -10 | L12: 1.6666667 | M12: 2 | N12: -1.5 | O12: -1.6666667 | Q12: Column 2 | R12: 1.67 | S12: =VARP($C$11:$C$16) -> 2 | T12: =S13 -> -1.5 | U12: =S14 -> -1.67 | W12: =_xlfn.COVARIANCE.P($B$11:$B$16,C11:C16) -> 1.6666667 | X12: =_xlfn.VAR.P($C$11:$C$16,C11:C16) -> 2 | AC12: LT | AD12: QT | AK12: Q-1 = QT
B13: =B4-B$8 -> -2 | C13: =C4-C$8 -> -1 | D13: =D4-D$8 -> 0.66666667 | E13: =E4-E$8 -> 2 | G13: -8 | H13: -9 | I13: 7.3333333 | J13: 8 | L13: -1.3333333 | M13: -1.5 | N13: 1.2222222 | O13: 1.3333333 | Q13: Column 3 | R13: -1.33 | S13: -1.5 | T13: =VARP($D$11:$D$16) -> 1.2222222 | U13: =T14 -> 1.33 | W13: =_xlfn.COVARIANCE.P($B$11:$B$16,D11:D16) -> -1.3333333 | X13: =_xlfn.COVARIANCE.P($C$11:$C$16,D11:D16) -> -1.5 | Y13: =_xlfn.VAR.P($D$11:$D$16,D11:D16) -> 1.2222222 | AC13: {=TRANSPOSE(AC3:AF9)} -> 6.6284432 | AD13: -0.53331504 | AE13: -0.51632174 | AF13: 0.40566241 | AG13: 0.53331504 | AH13: 2.346164e-13 | AI13: 1.3322676e-15 | AK13: {=MINVERSE(AC4:AF7)} -> -0.53331504 | AL13: -0.51632174 | AM13: 0.40566241 | AN13: 0.53331504
B14: =B5-B$8 -> -1 | C14: =C5-C$8 -> -2 | D14: =D5-D$8 -> 1.6666667 | E14: =E5-E$8 -> 1 | G14: -12 | H14: -10 | I14: 8 | J14: 12 | L14: -2 | M14: -1.6666667 | N14: 1.3333333 | O14: 2 | Q14: Column 4 | R14: -2 | S14: -1.67 | T14: 1.33 | U14: =VARP($E$11:$E$16) -> 2 | W14: =_xlfn.COVARIANCE.P($B$11:$B$16,E11:E16) -> -2 | X14: =_xlfn.COVARIANCE.P($C$11:$C$16,C13:C18) -> -0.68 | Y14: =_xlfn.COVARIANCE.P($D$11:$D$16,E11:E16) -> 1.3333333 | Z14: =_xlfn.VAR.P(E11:E16,E11:E16) -> 2 | AC14: 0.53404022 | AD14: -0.46334538 | AE14: 0.63145791 | AF14: -0.41458778 | AG14: 0.46334538 | AH14: 5.0144007e-16 | AI14: 4.4408921e-16 | AK14: -0.46334538 | AL14: 0.63145791 | AM14: -0.41458778 | AN14: 0.46334538
B15: =B6-B$8 -> 1 | C15: =C6-C$8 -> 1 | D15: =D6-D$8 -> -0.33333333 | E15: =E6-E$8 -> -1 | G15: =_xlfn.FORMULATEXT(G11) -> =MMULT(TRANSPOSE(B11:E16),B11:E16) | L15: =_xlfn.FORMULATEXT(L11) -> =1/6*G11:J14 | W15: =_xlfn.FORMULATEXT(W14) -> =COVARIANCE.P($B$11:$B$16,E11:E16) | AC15: 0.059738789 | AD15: -0.029767816 | AE15: -0.5785091 | AF15: -0.81458884 | AG15: 0.029767816 | AH15: 1.6327378e-17 | AI15: 3.6082248e-16 | AK15: -0.029767816 | AL15: -0.5785091 | AM15: -0.81458884 | AN15: 0.029767816
B16: =B7-B$8 -> -1 | C16: =C7-C$8 -> -1 | D16: =D7-D$8 -> 0.66666667 | E16: =E7-E$8 -> 1 | AC16: 3.0039521e-16 | AD16: -0.70710678 | AE16: 1.5347835e-16 | AF16: 6.4179757e-16 | AG16: -0.70710678 | AH16: -4.6955032e-17 | AI16: 4.4408921e-16 | AK16: -0.70710678 | AL16: -1.0407591e-15 | AM16: -1.2096026e-15 | AN16: -0.70710678
A17: Means | B17: =AVERAGE(B11:B16) -> 0 | C17: =AVERAGE(C11:C16) -> 0 | D17: =AVERAGE(D11:D16) -> -1.4802974e-16 | E17: =AVERAGE(E11:E16) -> 0 | L17: Covariance matrix (single formula) | AC17: =_xlfn.FORMULATEXT(AC13) -> =TRANSPOSE(AC3:AF9) | AK17: =_xlfn.FORMULATEXT(AK13) -> =MINVERSE(AC4:AF7)
L18: {=1/6*(MMULT(TRANSPOSE(B11:E16),B11:E16))} -> 2 | M18: 1.6666667 | N18: -1.3333333 | O18: -2
L19: 1.6666667 | M19: 2 | N19: -1.5 | O19: -1.6666667 | AC19: Q QT | AH19: QT Q
L20: -1.3333333 | M20: -1.5 | N20: 1.2222222 | O20: 1.3333333 | AC20: {=MMULT(AC4:AF7,AD13:AG16)} -> 1 | AD20: -6.5322876e-16 | AE20: -1.0540337e-15 | AF20: -3.3306691e-16 | AH20: {=MMULT(AD13:AG16,AC4:AF7)} -> 1 | AI20: 1.6653345e-16 | AJ20: 5.8980598e-17 | AK20: -1.6653345e-16
L21: -2 | M21: -1.6666667 | N21: 1.3333333 | O21: 2 | AC21: -6.5322876e-16 | AD21: 1 | AE21: 9.8502033e-32 | AF21: -1.0348679e-15 | AH21: 1.6653345e-16 | AI21: 1 | AJ21: 6.7827688e-16 | AK21: -3.3306691e-16
L22: =_xlfn.FORMULATEXT(L18) -> =1/6*(MMULT(TRANSPOSE(B11:E16),B11:E16)) | AC22: -1.0540337e-15 | AD22: 9.8502033e-32 | AE22: 1 | AF22: -1.5813897e-15 | AH22: 5.8980598e-17 | AI22: 6.7827688e-16 | AJ22: 1 | AK22: -2.220446e-15
AC23: -3.3306691e-16 | AD23: -1.0348679e-15 | AE23: -1.5813897e-15 | AF23: 1 | AH23: -1.6653345e-16 | AI23: -3.3306691e-16 | AJ23: -2.220446e-15 | AK23: 1
AC24: =_xlfn.FORMULATEXT(AC20) -> =MMULT(AC4:AF7,AD13:AG16) | AH24: =_xlfn.FORMULATEXT(AH20) -> =MMULT(AD13:AG16,AC4:AF7)

Sheet Sheet7
B1: M1 | C1: M2 | D1: M3 | E1: M4 | G1: Covariance (from raw data) | M1: M1 | N1: M2 | O1: M3 | P1: M4 | T1: Explained variance | V1: Cum
A2: P1 | B2: 5 | C2: 4 | D2: 2 | E2: 1 | H2: Column 1 | I2: Column 2 | J2: Column 3 | K2: Column 4 | M2: {=[1]!eigVECTSym(H3:K6)} -> 7.9531922 | N2: 0.64250172 | O2: 0.070972789 | P2: -2.2993752e-16 | Q2: Eigenvalues | T2: =M2 -> 7.9531922 | U2: =T2/$T$6 -> 0.91767602 | V2: =U2 -> 0.91767602
A3: P2 | B3: 4 | C3: 5 | D3: 2 | E3: 2 | G3: Column 1 | H3: =_xlfn.VAR.S($B$2:$B$7) -> 2.4 | I3: =H4 -> 2 | J3: =H5 -> -1.6 | K3: =H6 -> -2.4 | M3: -0.53332523 | N3: -0.46301912 | O3: -0.034314626 | P3: -0.70710678 | Q3: Eigenvectors | T3: =N2 -> 0.64250172 | U3: =T3/$T$6 -> 0.074134814 | V3: =U3+V2 -> 0.99181083
A4: P3 | B4: 1 | C4: 2 | D4: 4 | E4: 5 | G4: Column 2 | H4: =_xlfn.COVARIANCE.S(B2:B7,C2:C7) -> 2 | I4: =_xlfn.VAR.S($C$2:$C$7) -> 2.4 | J4: =I5 -> -1.8 | K4: =I6 -> -2 | M4: -0.51583857 | N4: 0.63664725 | O4: -0.57322845 | P4: 2.7707514e-16 | T4: =O2 -> 0.070972789 | U4: =T4/$T$6 -> 0.0081891679 | V4: =U4+V3 -> 1
A5: P4 | B5: 2 | C5: 1 | D5: 5 | E5: 4 | G5: Column 3 | H5: =_xlfn.COVARIANCE.S(B2:B7,D2:D7) -> -1.6 | I5: =_xlfn.COVARIANCE.S(C2:C7,D2:D7) -> -1.8 | J5: =_xlfn.VAR.S($D$2:$D$7) -> 1.4666667 | K5: =J6 -> 1.6 | M5: 0.40624988 | N5: -0.40731668 | O5: -0.81795731 | P5: 1.1083006e-15 | T5: =P2 -> -2.2993752e-16 | U5: =T5/$T$6 -> -2.6531252e-17 | V5: =U5+V4 -> 1
A6: P5 | B6: 4 | C6: 4 | D6: 3 | E6: 2 | G6: Column 4 | H6: =_xlfn.COVARIANCE.S(B2:B7,E2:E7) -> -2.4 | I6: =_xlfn.COVARIANCE.S(C2:C7,E2:E7) -> -2 | J6: =_xlfn.COVARIANCE.S(D2:D7,E2:E7) -> 1.6 | K6: =_xlfn.VAR.S($E$2:$E$7) -> 2.4 | M6: 0.53332523 | N6: 0.46301912 | O6: 0.034314626 | P6: -0.70710678 | S6: Sum | T6: =SUM(T2:T5) -> 8.6666667 | U6: =SUM(U2:U5) -> 1
A7: P6 | B7: 2 | C7: 2 | D7: 4 | E7: 4 | M7: -1.1577982e-13 | N7: -7.0286013e-16 | O7: -2.5266046e-17 | P7: 1.6105635e-16
A8: Average | B8: =AVERAGE(B2:B7) -> 3 | C8: =AVERAGE(C2:C7) -> 3 | D8: =AVERAGE(D2:D7) -> 3.3333333 | E8: =AVERAGE(E2:E7) -> 3 | M8: 8.8817842e-16 | N8: 4.4408921e-16 | O8: 3.1918912e-16 | P8: 1.110223e-15
M9: =_xlfn.FORMULATEXT(M2) -> =eigVECTSym(H3:K6)
A10: Centred | G10: Covariance (from centred data) | M10: PC1 | Q10: PC1 score
B11: =B2-AVERAGE(B$2:B$7) -> 2 | C11: =C2-AVERAGE(C$2:C$7) -> 1 | D11: =D2-AVERAGE(D$2:D$7) -> -1.3333333 | E11: =E2-AVERAGE(E$2:E$7) -> -2 | H11: Column 1 | I11: Column 2 | J11: Column 3 | K11: Column 4 | L11: P1 | M11: =B11*$M$3 -> -1.0666505 | N11: =C11*$M$4 -> -0.51583857 | O11: =D11*$M$5 -> -0.5416665 | P11: =E11*$M$6 -> -1.0666505 | Q11: =SUM(M11:P11) -> -3.190806 | R11: Sum
B12: =B3-AVERAGE(B$2:B$7) -> 1 | C12: =C3-AVERAGE(C$2:C$7) -> 2 | D12: =D3-AVERAGE(D$2:D$7) -> -1.3333333 | E12: =E3-AVERAGE(E$2:E$7) -> -1 | G12: Column 1 | H12: =_xlfn.VAR.S($B$11:$B$16) -> 2.4 | I12: =H13 -> 2 | J12: =H14 -> -1.6 | K12: =H15 -> -2.4 | L12: P2 | M12: =B12*$M$3 -> -0.53332523 | N12: =C12*$M$4 -> -1.0316771 | O12: =D12*$M$5 -> -0.5416665 | P12: =E12*$M$6 -> -0.53332523 | Q12: =SUM(M12:P12) -> -2.6399941
B13: =B4-AVERAGE(B$2:B$7) -> -2 | C13: =C4-AVERAGE(C$2:C$7) -> -1 | D13: =D4-AVERAGE(D$2:D$7) -> 0.66666667 | E13: =E4-AVERAGE(E$2:E$7) -> 2 | G13: Column 2 | H13: =_xlfn.COVARIANCE.S(B11:B16,C11:C16) -> 2 | I13: =_xlfn.VAR.S($C$11:$C$16) -> 2.4 | J13: =I14 -> -1.8 | K13: =I15 -> -2 | L13: P3 | M13: =B13*$M$3 -> 1.0666505 | N13: =C13*$M$4 -> 0.51583857 | O13: =D13*$M$5 -> 0.27083325 | P13: =E13*$M$6 -> 1.0666505 | Q13: =SUM(M13:P13) -> 2.9199728 | S13: PC1 eigenvector loading | X13: =Q10 -> PC1 score | Y13: =Q20 -> PC2 score
B14: =B5-AVERAGE(B$2:B$7) -> -1 | C14: =C5-AVERAGE(C$2:C$7) -> -2 | D14: =D5-AVERAGE(D$2:D$7) -> 1.6666667 | E14: =E5-AVERAGE(E$2:E$7) -> 1 | G14: Column 3 | H14: =_xlfn.COVARIANCE.S(B11:B16,D11:D16) -> -1.6 | I14: =_xlfn.COVARIANCE.S(C11:C16,D11:D16) -> -1.8 | J14: =_xlfn.VAR.S($D$11:$D$16) -> 1.4666667 | K14: =J15 -> 1.6 | L14: P4 | M14: =B14*$M$3 -> 0.53332523 | N14: =C14*$M$4 -> 1.0316771 | O14: =D14*$M$5 -> 0.67708313 | P14: =E14*$M$6 -> 0.53332523 | Q14: =SUM(M14:P14) -> 2.7754107 | S14: M1 | T14: M2 | U14: M3 | V14: M4 | X14: =Q11 -> -3.190806 | Y14: =Q21 -> -0.67234031
B15: =B6-AVERAGE(B$2:B$7) -> 1 | C15: =C6-AVERAGE(C$2:C$7) -> 1 | D15: =D6-AVERAGE(D$2:D$7) -> -0.33333333 | E15: =E6-AVERAGE(E$2:E$7) -> -1 | G15: Column 4 | H15: =_xlfn.COVARIANCE.S(B11:B16,E11:E16) -> -2.4 | I15: =_xlfn.COVARIANCE.S(C11:C16,E11:E16) -> -2 | J15: =_xlfn.COVARIANCE.S(D11:D16,E11:E16) -> 1.6 | K15: =_xlfn.VAR.S($E$11:$E$16) -> 2.4 | L15: P5 | M15: =B15*$M$3 -> -0.53332523 | N15: =C15*$M$4 -> -0.51583857 | O15: =D15*$M$5 -> -0.13541663 | P15: =E15*$M$6 -> -0.53332523 | Q15: =SUM(M15:P15) -> -1.7179057 | S15: =M3 -> -0.53332523 | T15: =M4 -> -0.51583857 | U15: =M5 -> 0.40624988 | V15: =M6 -> 0.53332523 | X15: =Q12 -> -2.6399941 | Y15: =Q22 -> 0.89034517
B16: =B7-AVERAGE(B$2:B$7) -> -1 | C16: =C7-AVERAGE(C$2:C$7) -> -1 | D16: =D7-AVERAGE(D$2:D$7) -> 0.66666667 | E16: =E7-AVERAGE(E$2:E$7) -> 1 | L16: P6 | M16: =B16*$M$3 -> 0.53332523 | N16: =C16*$M$4 -> 0.51583857 | O16: =D16*$M$5 -> 0.27083325 | P16: =E16*$M$6 -> 0.53332523 | Q16: =SUM(M16:P16) -> 1.8533223 | X16: =Q13 -> 2.9199728 | Y16: =Q23 -> 0.94388477
A17: Average | B17: =AVERAGE(B11:B16) -> 0 | C17: =AVERAGE(C11:C16) -> 0 | D17: =AVERAGE(D11:D16) -> -1.4802974e-16 | E17: =AVERAGE(E11:E16) -> 0 | L17: Sum | M17: =SUM(M11:M16) -> 0 | N17: =SUM(N11:N16) -> 0 | O17: =SUM(O11:O16) -> 0 | P17: =SUM(P11:P16) -> 0 | X17: =Q14 -> 2.7754107 | Y17: =Q24 -> -1.0261174
M18: =_xlfn.FORMULATEXT(M11) -> =B11*$M$3 | N18: =_xlfn.FORMULATEXT(N11) -> =C11*$M$4 | O18: =_xlfn.FORMULATEXT(O11) -> =D11*$M$5 | P18: =_xlfn.FORMULATEXT(P11) -> =E11*$M$6 | X18: =Q15 -> -1.7179057 | Y18: =Q25 -> -0.15361876
X19: =Q16 -> 1.8533223 | Y19: =Q26 -> 0.017846533
M20: PC2 | Q20: PC2 score
L21: P1 | M21: =B11*$N$3 -> -0.92603823 | N21: =C11*$N$4 -> 0.63664725 | O21: =D11*$N$5 -> 0.54308891 | P21: =E11*$N$6 -> -0.92603823 | Q21: =SUM(M21:P21) -> -0.67234031 | R21: Sum
L22: P2 | M22: =B12*$N$3 -> -0.46301912 | N22: =C12*$N$4 -> 1.2732945 | O22: =D12*$N$5 -> 0.54308891 | P22: =E12*$N$6 -> -0.46301912 | Q22: =SUM(M22:P22) -> 0.89034517
L23: P3 | M23: =B13*$N$3 -> 0.92603823 | N23: =C13*$N$4 -> -0.63664725 | O23: =D13*$N$5 -> -0.27154445 | P23: =E13*$N$6 -> 0.92603823 | Q23: =SUM(M23:P23) -> 0.94388477 | S23: PC2 eigenvector loading
L24: P4 | M24: =B14*$N$3 -> 0.46301912 | N24: =C14*$N$4 -> -1.2732945 | O24: =D14*$N$5 -> -0.67886114 | P24: =E14*$N$6 -> 0.46301912 | Q24: =SUM(M24:P24) -> -1.0261174 | S24: M1 | T24: M2 | U24: M3 | V24: M4
L25: P5 | M25: =B15*$N$3 -> -0.46301912 | N25: =C15*$N$4 -> 0.63664725 | O25: =D15*$N$5 -> 0.13577223 | P25: =E15*$N$6 -> -0.46301912 | Q25: =SUM(M25:P25) -> -0.15361876 | S25: =N3 -> -0.46301912 | T25: =N4 -> 0.63664725 | U25: =N5 -> -0.40731668 | V25: =N6 -> 0.46301912
L26: P6 | M26: =B16*$N$3 -> 0.46301912 | N26: =C16*$N$4 -> -0.63664725 | O26: =D16*$N$5 -> -0.27154445 | P26: =E16*$N$6 -> 0.46301912 | Q26: =SUM(M26:P26) -> 0.017846533
L27: Sum | M27: =SUM(M21:M26) -> 0 | N27: =SUM(N21:N26) -> 0 | O27: =SUM(O21:O26) -> 0 | P27: =SUM(P21:P26) -> 0
M28: =_xlfn.FORMULATEXT(M21) -> =B11*$N$3 | N28: =_xlfn.FORMULATEXT(N21) -> =C11*$N$4 | O28: =_xlfn.FORMULATEXT(O21) -> =D11*$N$5 | P28: =_xlfn.FORMULATEXT(P21) -> =E11*$N$6

Sheet Sheet1
R1: C × v = l × v
A2: C | B2: (Covar matrix) | F2: v | G2: (Eigenvectors) | K2: l (Eigenvalues) | M2: C × v | Q2: Sum | S2: v × l
A3: =Sheet7!H12 -> 2.4 | B3: =Sheet7!I12 -> 2 | C3: =Sheet7!J12 -> -1.6 | D3: =Sheet7!K12 -> -2.4 | F3: =Sheet7!M3 -> -0.53332523 | G3: =Sheet7!N3 -> -0.46301912 | H3: =Sheet7!O3 -> -0.034314626 | I3: =Sheet7!P3 -> -0.70710678 | K3: =Sheet7!T2 -> 7.9531922 | M3: {=MMULT(A3:D6,F3:I6)} -> -4.2416381 | N3: -0.29749058 | O3: -0.0024354047 | P3: 8.8817842e-16 | Q3: =SUM(M3:P3) -> -4.541564 | S3: {=MMULT(F3:I6,K3:K6)} -> -4.541564
A4: =Sheet7!H13 -> 2 | B4: =Sheet7!I13 -> 2.4 | C4: =Sheet7!J13 -> -1.8 | D4: =Sheet7!K13 -> -2 | F4: =Sheet7!M4 -> -0.51583857 | G4: =Sheet7!N4 -> 0.63664725 | H4: =Sheet7!O4 -> -0.57322845 | I4: =Sheet7!P4 -> 2.7707514e-16 | K4: =Sheet7!T3 -> 0.64250172 | M4: -4.1025633 | N4: 0.40904695 | O4: -0.040683622 | P4: 4.4408921e-16 | Q4: =SUM(M4:P4) -> -3.7341999 | S4: -3.7341999
A5: =Sheet7!H14 -> -1.6 | B5: =Sheet7!I14 -> -1.8 | C5: =Sheet7!J14 -> 1.4666667 | D5: =Sheet7!K14 -> 1.6 | F5: =Sheet7!M5 -> 0.40624988 | G5: =Sheet7!N5 -> -0.40731668 | H5: =Sheet7!O5 -> -0.81795731 | I5: =Sheet7!P5 -> 1.1083006e-15 | K5: =Sheet7!T4 -> 0.070972789 | M5: 3.2309833 | N5: -0.26170167 | O5: -0.058052711 | P5: -2.220446e-16 | Q5: =SUM(M5:P5) -> 2.9112289 | S5: 2.9112289
A6: =Sheet7!H15 -> -2.4 | B6: =Sheet7!I15 -> -2 | C6: =Sheet7!J15 -> 1.6 | D6: =Sheet7!K15 -> 2.4 | F6: =Sheet7!M6 -> 0.53332523 | G6: =Sheet7!N6 -> 0.46301912 | H6: =Sheet7!O6 -> 0.034314626 | I6: =Sheet7!P6 -> -0.70710678 | K6: =Sheet7!T5 -> -2.2993752e-16 | M6: 4.2416381 | N6: 0.29749058 | O6: 0.0024354047 | P6: -8.8817842e-16 | Q6: =SUM(M6:P6) -> 4.541564 | S6: 4.541564
M7: =_xlfn.FORMULATEXT(M3) -> =MMULT(A3:D6,F3:I6) | Q7: =_xlfn.FORMULATEXT(Q3) -> =SUM(M3:P3) | S7: =_xlfn.FORMULATEXT(S3) -> =MMULT(F3:I6,K3:K6)
